BEGIN:VCALENDAR
VERSION:2.0
PRODID:-//Geilsland Estate - ECPv6.15.17.1//NONSGML v1.0//EN
CALSCALE:GREGORIAN
METHOD:PUBLISH
X-WR-CALNAME:Geilsland Estate
X-ORIGINAL-URL:https://geilsland.com
X-WR-CALDESC:Events for Geilsland Estate
REFRESH-INTERVAL;VALUE=DURATION:PT1H
X-Robots-Tag:noindex
X-PUBLISHED-TTL:PT1H
BEGIN:VTIMEZONE
TZID:Europe/London
BEGIN:DAYLIGHT
TZOFFSETFROM:+0000
TZOFFSETTO:+0100
TZNAME:BST
DTSTART:20230326T010000
END:DAYLIGHT
BEGIN:STANDARD
TZOFFSETFROM:+0100
TZOFFSETTO:+0000
TZNAME:GMT
DTSTART:20231029T010000
END:STANDARD
BEGIN:DAYLIGHT
TZOFFSETFROM:+0000
TZOFFSETTO:+0100
TZNAME:BST
DTSTART:20240331T010000
END:DAYLIGHT
BEGIN:STANDARD
TZOFFSETFROM:+0100
TZOFFSETTO:+0000
TZNAME:GMT
DTSTART:20241027T010000
END:STANDARD
BEGIN:DAYLIGHT
TZOFFSETFROM:+0000
TZOFFSETTO:+0100
TZNAME:BST
DTSTART:20250330T010000
END:DAYLIGHT
BEGIN:STANDARD
TZOFFSETFROM:+0100
TZOFFSETTO:+0000
TZNAME:GMT
DTSTART:20251026T010000
END:STANDARD
END:VTIMEZONE
BEGIN:VEVENT
DTSTART;TZID=Europe/London:20241002T093000
DTEND;TZID=Europe/London:20241002T143000
DTSTAMP:20260420T102843
CREATED:20240830T111435Z
LAST-MODIFIED:20240830T111441Z
UID:10001227-1727861400-1727879400@geilsland.com
SUMMARY:Food Hygiene
DESCRIPTION:REHIS Food Hygiene Course \n\n\n\nDates: \n\n\n\n\nWednesday\, 2nd October\n\n\n\nWednesday\, 8th January\n\n\n\nWednesday\, 12th March\n\n\n\n\nTime: 9:30am – 2:30pm \n\n\n\nLocation: Geilsland Estate\, Beith\, KA15 1HD \n\n\n\nCost: Free \n\n\n\nJoin us for our comprehensive REHIS Food Hygiene course\, designed to equip you with essential knowledge and skills to ensure food safety in any setting. This course is ideal for anyone involved in the preparation or handling of food\, whether in a professional capacity or at home. \n\n\n\nAs part of Geilsland Works\, our free 8-week employability programme\, we are offering this comprehensive food hygiene course for free! Alongside this\, lunch will be provided to all participants and we have a childcare creche available on-site for those requiring childcare. \n\n\n\nThis course will cover a variety of food hygiene topics\, including: \n\n\n\n\nBacteria and Their Characteristics: Understand the types of bacteria that affect food and how to control them.\n\n\n\nFood Poisoning and Its Prevention: Learn the critical steps to prevent foodborne illnesses.\n\n\n\nFood Legislation: Gain insight into the legal requirements surrounding food safety.\n\n\n\n\nDon’t miss this opportunity to enhance your food hygiene knowledge. Spaces are limited\, so be sure to reserve your spot early!
URL:https://geilsland.com/event/food-hygiene/
CATEGORIES:Courses
ATTACH;FMTTYPE=image/jpeg:https://geilsland.com/wp-content/uploads/2024/08/STEPS-to-Excellence-draft-poster-9.jpg
END:VEVENT
END:VCALENDAR