BEGIN:VCALENDAR
VERSION:2.0
PRODID:-//Geilsland Estate - ECPv6.15.17.1//NONSGML v1.0//EN
CALSCALE:GREGORIAN
METHOD:PUBLISH
X-WR-CALNAME:Geilsland Estate
X-ORIGINAL-URL:https://geilsland.com
X-WR-CALDESC:Events for Geilsland Estate
REFRESH-INTERVAL;VALUE=DURATION:PT1H
X-Robots-Tag:noindex
X-PUBLISHED-TTL:PT1H
BEGIN:VTIMEZONE
TZID:Europe/London
BEGIN:DAYLIGHT
TZOFFSETFROM:+0000
TZOFFSETTO:+0100
TZNAME:BST
DTSTART:20230326T010000
END:DAYLIGHT
BEGIN:STANDARD
TZOFFSETFROM:+0100
TZOFFSETTO:+0000
TZNAME:GMT
DTSTART:20231029T010000
END:STANDARD
BEGIN:DAYLIGHT
TZOFFSETFROM:+0000
TZOFFSETTO:+0100
TZNAME:BST
DTSTART:20240331T010000
END:DAYLIGHT
BEGIN:STANDARD
TZOFFSETFROM:+0100
TZOFFSETTO:+0000
TZNAME:GMT
DTSTART:20241027T010000
END:STANDARD
BEGIN:DAYLIGHT
TZOFFSETFROM:+0000
TZOFFSETTO:+0100
TZNAME:BST
DTSTART:20250330T010000
END:DAYLIGHT
BEGIN:STANDARD
TZOFFSETFROM:+0100
TZOFFSETTO:+0000
TZNAME:GMT
DTSTART:20251026T010000
END:STANDARD
END:VTIMEZONE
BEGIN:VEVENT
DTSTART;TZID=Europe/London:20241116T093000
DTEND;TZID=Europe/London:20241116T103000
DTSTAMP:20260420T103026
CREATED:20250728T114711Z
LAST-MODIFIED:20250729T095158Z
UID:10001282-1731749400-1731753000@geilsland.com
SUMMARY:Wellness Workshop
DESCRIPTION:Chair Yoga – 6-Week Block Fridays | August 22nd – September 26th | 9:45am – 10:45am Location: Beith Community CentreCost: Just £24 for the full block (that’s only £4 per class!) \n\n\n\nJoin us for a refreshing 6-week block of Chair Yoga — a gentle and accessible way to stretch\, strengthen\, and relax. This block will also include Reiki\, meditation\, mindfulness techniques\, and of course\, chair yoga. \n\n\n\n– Improve your flexibility and balance– Learn calming relaxation and mindfulness techniques– Experience the benefits of Reiki and meditation– Perfect for beginners and open to all abilities \n\n\n\nClasses run every Friday from August 22nd – September 26th\, 9:45am – 10:45am\, at Beith Community Centre. \n\n\n\nSpaces are limited – booking is essential! \n\n\n\nCome along\, take a seat\, and discover the benefits of Chair Yoga in a relaxed and friendly environment.
URL:https://geilsland.com/event/wellness-workshop-2/
CATEGORIES:Courses
ATTACH;FMTTYPE=image/png:https://geilsland.com/wp-content/uploads/2025/07/Wise-Ones-Wellness-Instagram-Post-5.png
END:VEVENT
END:VCALENDAR