BEGIN:VCALENDAR
VERSION:2.0
PRODID:-//Geilsland Estate - ECPv6.15.17.1//NONSGML v1.0//EN
CALSCALE:GREGORIAN
METHOD:PUBLISH
X-WR-CALNAME:Geilsland Estate
X-ORIGINAL-URL:https://geilsland.com
X-WR-CALDESC:Events for Geilsland Estate
REFRESH-INTERVAL;VALUE=DURATION:PT1H
X-Robots-Tag:noindex
X-PUBLISHED-TTL:PT1H
BEGIN:VTIMEZONE
TZID:Europe/London
BEGIN:DAYLIGHT
TZOFFSETFROM:+0000
TZOFFSETTO:+0100
TZNAME:BST
DTSTART:20210328T010000
END:DAYLIGHT
BEGIN:STANDARD
TZOFFSETFROM:+0100
TZOFFSETTO:+0000
TZNAME:GMT
DTSTART:20211031T010000
END:STANDARD
BEGIN:DAYLIGHT
TZOFFSETFROM:+0000
TZOFFSETTO:+0100
TZNAME:BST
DTSTART:20220327T010000
END:DAYLIGHT
BEGIN:STANDARD
TZOFFSETFROM:+0100
TZOFFSETTO:+0000
TZNAME:GMT
DTSTART:20221030T010000
END:STANDARD
BEGIN:DAYLIGHT
TZOFFSETFROM:+0000
TZOFFSETTO:+0100
TZNAME:BST
DTSTART:20230326T010000
END:DAYLIGHT
BEGIN:STANDARD
TZOFFSETFROM:+0100
TZOFFSETTO:+0000
TZNAME:GMT
DTSTART:20231029T010000
END:STANDARD
END:VTIMEZONE
BEGIN:VEVENT
DTSTART;TZID=Europe/London:20220718T090000
DTEND;TZID=Europe/London:20220819T170000
DTSTAMP:20260422T021142
CREATED:20220620T151148Z
LAST-MODIFIED:20220711T091928Z
UID:10000931-1658134800-1660928400@geilsland.com
SUMMARY:Haybale Maze
DESCRIPTION:Our Haybale Maze is coming back for summer 2022! \n\n\n\n\n\nLooking for some fun things to do in summer 2022? Then you should visit our one-of-a-kind haybale maze!  \n\n\n\nOur giant maze is built using large straw bales provided by local farmers and makes for the perfect environment for big and little kids alike to climb\, jump\, run\, and play. The maze will be open throughout the whole of the summer holidays and we’ll be running lots of different activities and events throughout; including crafting workshops\, music workshops\, a sculpture treasure trail\, and our amazing national playday event.  \n\n\n\nThe maze is open throughout the school summer holidays; opening Monday\, July 18th and closing Friday\, August 19th; so drop in anytime between these dates to climb and play!
URL:https://geilsland.com/event/haybale-maze-summer-2022/
LOCATION:Geilsland Hall\, Geilsland House Estate\, Beith\, North Ayrshire\, KA15 1HD\, United Kingdom
CATEGORIES:Geilsland Events,Play
ATTACH;FMTTYPE=image/jpeg:https://geilsland.com/wp-content/uploads/2022/06/Haybale-maze-summer-2022.jpg
END:VEVENT
END:VCALENDAR