BEGIN:VCALENDAR
VERSION:2.0
PRODID:-//Geilsland Estate - ECPv6.15.17.1//NONSGML v1.0//EN
CALSCALE:GREGORIAN
METHOD:PUBLISH
X-WR-CALNAME:Geilsland Estate
X-ORIGINAL-URL:https://geilsland.com
X-WR-CALDESC:Events for Geilsland Estate
REFRESH-INTERVAL;VALUE=DURATION:PT1H
X-Robots-Tag:noindex
X-PUBLISHED-TTL:PT1H
BEGIN:VTIMEZONE
TZID:Europe/London
BEGIN:DAYLIGHT
TZOFFSETFROM:+0000
TZOFFSETTO:+0100
TZNAME:BST
DTSTART:20250330T010000
END:DAYLIGHT
BEGIN:STANDARD
TZOFFSETFROM:+0100
TZOFFSETTO:+0000
TZNAME:GMT
DTSTART:20251026T010000
END:STANDARD
BEGIN:DAYLIGHT
TZOFFSETFROM:+0000
TZOFFSETTO:+0100
TZNAME:BST
DTSTART:20260329T010000
END:DAYLIGHT
BEGIN:STANDARD
TZOFFSETFROM:+0100
TZOFFSETTO:+0000
TZNAME:GMT
DTSTART:20261025T010000
END:STANDARD
BEGIN:DAYLIGHT
TZOFFSETFROM:+0000
TZOFFSETTO:+0100
TZNAME:BST
DTSTART:20270328T010000
END:DAYLIGHT
BEGIN:STANDARD
TZOFFSETFROM:+0100
TZOFFSETTO:+0000
TZNAME:GMT
DTSTART:20271031T010000
END:STANDARD
END:VTIMEZONE
BEGIN:VEVENT
DTSTART;TZID=Europe/London:20260306T093000
DTEND;TZID=Europe/London:20260306T103000
DTSTAMP:20260420T164602
CREATED:20260223T141018Z
LAST-MODIFIED:20260227T155502Z
UID:10001313-1772789400-1772793000@geilsland.com
SUMMARY:Wellness Workshop
DESCRIPTION:🪑 Chair Yoga – 6-Week Block 🌿Fridays | March 6th – April 10th | 9:45am – 10:45am📍 Beith Community Centre💰 Just £24 for the full block (that’s only £4 per class!) \n\n\n\nJoin us for a refreshing 6-week block of Chair Yoga — a gentle and accessible way to stretch\, strengthen\, and relax. This block will also include Reiki\, meditation\, mindfulness techniques\, and of course\, chair yoga. \n\n\n\n🧘 Improve your flexibility and balance💆‍♀️ Learn calming relaxation and mindfulness techniques🪷 Experience the benefits of Reiki and meditation👟 Perfect for beginners and open to all abilities \n\n\n\nClasses run every Friday from March 6th – April 10th\, 9:45am – 10:45am\, at Beith Community Centre. \n\n\n\nSpaces are limited – booking is essential! \n\n\n\nCome along\, take a seat\, and discover the benefits of Chair Yoga in a relaxed and friendly environment. 🌸
URL:https://geilsland.com/event/wellness-workshop-5/
ATTACH;FMTTYPE=image/png:https://geilsland.com/wp-content/uploads/2026/02/Wise-Ones-Wellness-Instagram-Post-10.png
END:VEVENT
BEGIN:VEVENT
DTSTART;TZID=Europe/London:20260314T110000
DTEND;TZID=Europe/London:20260314T120000
DTSTAMP:20260420T164602
CREATED:20260217T122249Z
LAST-MODIFIED:20260312T165026Z
UID:10001312-1773486000-1773489600@geilsland.com
SUMMARY:Traditional Tunes for Tiny People
DESCRIPTION:Garnock Valley Pipes and Drums are collaborating once again with Live Music Now Scotland for a fun\, interactive session for young children with the fantastic Juliette Lemoine & Chris Amer! Two exceptional and accomplished new voices on the Scottish music scene\, Juliette and Chris together explore traditional Scottish music with originality\, energy and depth. Recent highlights include their headline performance at Celtic Connections (2024)\, performing at London Jazz Festival (2024)\, and supporting folk supergroup LAU at Kings Place\, London (2024).  \n\n\n\nIt’s totally free to attend this workshop and recommended for ages 3 – 7 (A parent or guardian must stay with the children during the event.) Book your free space below!
URL:https://geilsland.com/event/traditional-tunes-for-tiny-people-5/
CATEGORIES:Music Project
ATTACH;FMTTYPE=image/jpeg:https://geilsland.com/wp-content/uploads/2026/02/Photo-Credit-Harrison-Reid-1.jpg
END:VEVENT
BEGIN:VEVENT
DTSTART;TZID=Europe/London:20260328T100000
DTEND;TZID=Europe/London:20260328T153000
DTSTAMP:20260420T164602
CREATED:20260114T131536Z
LAST-MODIFIED:20260114T131745Z
UID:10001310-1774692000-1774711800@geilsland.com
SUMMARY:Easter Eggstravaganza
DESCRIPTION:This event page is for Sunday’s Easter Eggstravaganza Event. Tickets for Sunday’s timeslots can be found here. \n\n\n\nMark your calendars for an unforgettable weekend of Easter fun at our upcoming Easter Eggstravaganza Events! Join us on Saturday\, March 28th\, and Sunday\, March 29th\, for a fun day that promises to entertain kids of all ages. Embrace the spirit of the season with a day filled with laughter\, creativity\, and\, of course\, Easter fun!🐰💐 We’ll have Easter arts and crafts\, our haybale maze\, photo opportunities\, active fun\, puzzles and so much more available to enjoy. \n\n\n\nWe strongly recommend you wear comfortable\, outdoor\, shoes as the site can be slippy when it rains!💐 When you book your timeslot\, please ensure that you arrive no earlier than your timeslot states\, and no later than 30 minutes before it ends. For example\, if you chose 10am – 11:30am\, please do not arrive before 10am and try to arrive no later than 11pm to ensure you get enough time to enjoy all we have to offer!🐰🩵 \n\n\n\nLimited spots are available for each session\, so book your tickets now to guarantee a day of fun. We’ll see you there! \n\n\n\nEvent Details🐰Dates: Saturday\, March 28th\, and Sunday\, March 29thTimes: Three sessions available each daySession One: 10:00am – 11:30amSession Two: 12:00pm – 1:30pmSession Three: 2pm – 3:30pmLocation: Geilsland Estate\, Geilsland Road\, Beith\, KA15 1HD \n\n\n\nTicket Information!🐰Price: £10 per child (accompanying adults enter for free)Age: Suitable for children of all ages (recommended for kids 2-12 years old)Tickets: Secure your spot by purchasing tickets in advance below
URL:https://geilsland.com/event/easter-eggstravaganza-saturday/
CATEGORIES:Play
ATTACH;FMTTYPE=image/jpeg:https://geilsland.com/wp-content/uploads/2026/01/1-3-1.jpg
END:VEVENT
BEGIN:VEVENT
DTSTART;TZID=Europe/London:20260329T100000
DTEND;TZID=Europe/London:20260329T153000
DTSTAMP:20260420T164602
CREATED:20260113T132429Z
LAST-MODIFIED:20260119T103348Z
UID:10001309-1774778400-1774798200@geilsland.com
SUMMARY:Easter Eggstravaganza
DESCRIPTION:This event page is for Sunday’s Easter Eggstravaganza Event. Tickets for Saturday’s timeslots can be found here. \n\n\n\nMark your calendars for an unforgettable weekend of Easter fun at our upcoming Easter Eggstravaganza Events! Join us on Saturday\, March 28th\, and Sunday\, March 29th\, for a fun day that promises to entertain kids of all ages. Embrace the spirit of the season with a day filled with laughter\, creativity\, and\, of course\, Easter fun!🐰💐 We’ll have Easter arts and crafts\, our haybale maze\, photo opportunities\, active fun\, puzzles and so much more available to enjoy. \n\n\n\nWe strongly recommend you wear comfortable\, outdoor\, shoes as the site can be slippy when it rains!💐 When you book your timeslot\, please ensure that you arrive no earlier than your timeslot states\, and no later than 30 minutes before it ends. For example\, if you chose 10am – 11:30am\, please do not arrive before 10am and try to arrive no later than 11pm to ensure you get enough time to enjoy all we have to offer!🐰🩵 \n\n\n\nLimited spots are available for each session\, so book your tickets now to guarantee a day of fun. We’ll see you there! \n\n\n\nEvent Details🐰Dates: Saturday\, March 28th\, and Sunday\, March 29thTimes: Three sessions available each daySession One: 10:00am – 11:30amSession Two: 12:00pm – 1:30pmSession Three: 2pm – 3:30pmLocation: Geilsland Estate\, Geilsland Road\, Beith\, KA15 1HD \n\n\n\nTicket Information!🐰Price: £10 per child (accompanying adults enter for free)Age: Suitable for children of all ages (recommended for kids 2-12 years old)Tickets: Secure your spot by purchasing tickets in advance below
URL:https://geilsland.com/event/easter-eggstravaganza-2/
CATEGORIES:Play
ATTACH;FMTTYPE=image/jpeg:https://geilsland.com/wp-content/uploads/2026/01/1-3-1.jpg
END:VEVENT
END:VCALENDAR